BEGIN:VCALENDAR
VERSION:2.0
PRODID:-//Musée du Pays d&#039;Ourthe-Amblève - ECPv5.1.5//NONSGML v1.0//EN
CALSCALE:GREGORIAN
METHOD:PUBLISH
X-WR-CALNAME:Musée du Pays d&#039;Ourthe-Amblève
X-ORIGINAL-URL:https://www.musee-ourthe-ambleve.be
X-WR-CALDESC:Évènements pour Musée du Pays d&#039;Ourthe-Amblève
BEGIN:VTIMEZONE
TZID:Europe/Brussels
BEGIN:DAYLIGHT
TZOFFSETFROM:+0100
TZOFFSETTO:+0200
TZNAME:CEST
DTSTART:20220327T010000
END:DAYLIGHT
BEGIN:STANDARD
TZOFFSETFROM:+0200
TZOFFSETTO:+0100
TZNAME:CET
DTSTART:20221030T010000
END:STANDARD
END:VTIMEZONE
BEGIN:VEVENT
DTSTART;TZID=Europe/Brussels:20220223T200000
DTEND;TZID=Europe/Brussels:20220223T220000
DTSTAMP:20260419T140930
CREATED:20220215T133803Z
LAST-MODIFIED:20230628T080113Z
UID:1028-1645646400-1645653600@www.musee-ourthe-ambleve.be
SUMMARY:Conférence Nicolas Pitot
DESCRIPTION:Conférence donnée par Dominique Jeangette\, commissaire de l’exposition « Nicolas Pitot\, peintre de l’émerveillement ». \n\nTarifs\n6\,00€ \nRéservation obligatoire\n\nTél. : 04 369 99 76 \nE-mail : musee@comblainaupont.be \n\n
URL:https://www.musee-ourthe-ambleve.be/evenement/conference-nicolas-pitot/
LOCATION:Eglise Saint Martin\, Place Leblanc\, 4170 Comblain-au-Pont\, Belgium
CATEGORIES:Animation
ATTACH;FMTTYPE=image/jpeg:https://www.musee-ourthe-ambleve.be/wp-content/uploads/2022/02/Musee-du-Pays-dOurthe-Ambleve-scaled-e1644933098933.jpg
END:VEVENT
END:VCALENDAR